Workbook

Sheet Plano de Atividades CI
B6: Plano de Atividades do Controle Interno
C7: Criado em Dezembro/2019 válido até Dezembro/2020
C9: Descrição de Pessoal integrante do sistema de Controle Interno
C10: Qtd Pessoas | D10: Descrição | E10: Dias úteis | F10: Qtd Total Hora
C11: 1 | D11: Cargo - Controle Interno / 10 horas semanais | E11: 200 | F11: =E11*2 -> 400
C13: Distribuição de Horas entre as Macro Funções | E13: 1 | F13: =F11 -> 400
C14: 1 | D14: Auditoria | E14: 0.6 | F14: =$F$13*E14 -> 240
C15: 2 | D15: Apoio Controle Externo | E15: 0.05 | F15: =$F$13*E15 -> 20
C16: 3 | D16: Atividades Internas | E16: 0.35 | F16: =$F$13*E16 -> 140
C18: Descrição das Macro Funções
C19: 1 | D19: Auditoria | E19: Auditoria | F19: Avaliação dos controles existentes e emissão de recomendações.
E20: Normatização | F20: Elaboração de normativos para estruturação dos controles administrativos.
C21: 2 | D21: Apoio Controle Externo | E21: Apoio C. Externo | F21: Atendimento aos órgãos de controle (TCE/SC, MPSC, TCU e CGU)
C22: 3 | D22: Atividades Internas | E22: Planejamento | F22: Elaboração do plano de atividades do controle interno.
E23: Apoio Administrativo | F23: Elaboração do relatório anual, parecer final do exercício e o envio do anexo VII da IN20.
B25: Detalhamento das Atividades Previstas para o ano de 2020
B26: Seq | C26: Tipo de Atividade | D26: Atividade | E26: Horas Previstas | F26: Horas Executadas | G26: Horas Restantes | H26: % de utilização das horas | I26: Status
B27: 1 | C27: 3 | D27: Elaboração do Plano de Atividades | E27: 0.083333333 | F27: 0.083333333 | G27: =E27-F27 -> 0 | H27: =(F27/E27) -> 1
B28: 2 | C28: 3 | D28: Parecer administrativo | E28: 2.2916667 | F28: 0 | G28: =E28-F28 -> 2.2916667 | H28: =(F28/E28) -> 0
B29: 3 | C29: 3 | D29: Anexo VII - IN20 | E29: 2.0833333 | F29: 1.0833333 | G29: =E29-F29 -> 1 | H29: =(F29/E29) -> 0.52
B30: 4 | C30: 3 | D30: Parecer Final do Exercício | E30: 0.20833333 | F30: 0 | G30: =E30-F30 -> 0.20833333 | H30: =(F30/E30) -> 0
B31: 5 | C31: 1 | D31: Recomendações | E31: 1.6666667 | F31: 0 | G31: =E31-F31 -> 1.6666667 | H31: =(F31/E31) -> 0
B32: 6 | C32: 1 | D32: Portal da transparência | E32: 1.6666667 | F32: 0 | G32: =E32-F32 -> 1.6666667 | H32: =(F32/E32) -> 0
B33: 7 | C33: 1 | D33: Diárias | E33: 2.7083333 | F33: 0 | G33: =E33-F33 -> 2.7083333 | H33: =(F33/E33) -> 0
B34: 8 | C34: 1 | D34: Pregão Eletrônico | E34: 2.7083333 | F34: 0 | G34: =E34-F34 -> 2.7083333 | H34: =(F34/E34) -> 0
B35: 9 | C35: 1 | D35: Normatização de procedimentos | E35: 2.8333333 | F35: =VLOOKUP(B35,' Horas Executadas'!$J$4:$K$14,2,0) -> 0 | G35: =E35-F35 -> 2.8333333 | H35: =(F35/E35) -> 0
B36: 10 | C36: 2 | D36: Emisão de Parecer ou Relatório ao Conselho Fiscal | E36: 0.20833333 | F36: 0.10416667 | G36: =E36-F36 -> 0.10416667 | H36: =(F36/E36) -> 0.5
B37: 11 | C37: 2 | D37: Atendimento aos órgãos de Controle Externo | E37: 0.20833333 | F37: 0 | G37: =E37-F37 -> 0.20833333 | H37: =(F37/E37) -> 0

Sheet  Horas Executadas
B2: Demonstrativos de Horas Executadas
B3: Seq | C3: Data | D3: Inicio | E3: Fim | F3: Tipo de Atividade | G3: Descrição | H3: Horas Executadas | J3: Totais de Horas Executadas
H4: 0 | J4: 1 | K4: 0.083333333
H5: =E5-D5 -> 0 | J5: 2 | K5: =SUMIF($B$4:$H$999,J5,$H$4:$H$999) -> 0
H6: =E6-D6 -> 0 | J6: 3 | K6: 24
H7: =E7-D7 -> 0 | J7: 4 | K7: =SUMIF($B$4:$H$999,J7,$H$4:$H$999) -> 0
H8: =E8-D8 -> 0 | J8: 5 | K8: =SUMIF($B$4:$H$999,J8,$H$4:$H$999) -> 0
H9: =E9-D9 -> 0 | J9: 6 | K9: =SUMIF($B$4:$H$999,J9,$H$4:$H$999) -> 0
H10: =E10-D10 -> 0 | J10: 7 | K10: =SUMIF($B$4:$H$999,J10,$H$4:$H$999) -> 0
H11: =E11-D11 -> 0 | J11: 8 | K11: =SUMIF($B$4:$H$999,J11,$H$4:$H$999) -> 0
H12: =E12-D12 -> 0 | J12: 9 | K12: =SUMIF($B$4:$H$999,J12,$H$4:$H$999) -> 0
H13: =E13-D13 -> 0 | J13: 10 | K13: =SUMIF($B$4:$H$999,J13,$H$4:$H$999) -> 0
H14: =E14-D14 -> 0 | J14: 11 | K14: =SUMIF($B$4:$H$999,J14,$H$4:$H$999) -> 0
H15: =E15-D15 -> 0
H16: =E16-D16 -> 0
H17: =E17-D17 -> 0
H18: =E18-D18 -> 0
H19: =E19-D19 -> 0
H20: =E20-D20 -> 0
H21: =E21-D21 -> 0
H22: =E22-D22 -> 0
H23: =E23-D23 -> 0
H24: =E24-D24 -> 0
H25: =E25-D25 -> 0
H26: =E26-D26 -> 0
... H163: =E163-D163 -> 0
G164: =IFERROR(VLOOKUP(F164,'Plano de Atividades CI'!$C$19:$D$22,2,0),0) -> 0 | H164: =E164-D164 -> 0
G165: =IFERROR(VLOOKUP(F165,'Plano de Atividades CI'!$C$19:$D$22,2,0),0) -> 0 | H165: =E165-D165 -> 0
G166: =IFERROR(VLOOKUP(F166,'Plano de Atividades CI'!$C$19:$D$22,2,0),0) -> 0 | H166: =E166-D166 -> 0
G167: =IFERROR(VLOOKUP(F167,'Plano de Atividades CI'!$C$19:$D$22,2,0),0) -> 0 | H167: =E167-D167 -> 0
G168: =IFERROR(VLOOKUP(F168,'Plano de Atividades CI'!$C$19:$D$22,2,0),0) -> 0 | H168: =E168-D168 -> 0
G169: =IFERROR(VLOOKUP(F169,'Plano de Atividades CI'!$C$19:$D$22,2,0),0) -> 0 | H169: =E169-D169 -> 0
G170: =IFERROR(VLOOKUP(F170,'Plano de Atividades CI'!$C$19:$D$22,2,0),0) -> 0 | H170: =E170-D170 -> 0
G171: =IFERROR(VLOOKUP(F171,'Plano de Atividades CI'!$C$19:$D$22,2,0),0) -> 0 | H171: =E171-D171 -> 0
G172: =IFERROR(VLOOKUP(F172,'Plano de Atividades CI'!$C$19:$D$22,2,0),0) -> 0 | H172: =E172-D172 -> 0
G173: =IFERROR(VLOOKUP(F173,'Plano de Atividades CI'!$C$19:$D$22,2,0),0) -> 0 | H173: =E173-D173 -> 0
G174: =IFERROR(VLOOKUP(F174,'Plano de Atividades CI'!$C$19:$D$22,2,0),0) -> 0 | H174: =E174-D174 -> 0
G175: =IFERROR(VLOOKUP(F175,'Plano de Atividades CI'!$C$19:$D$22,2,0),0) -> 0 | H175: =E175-D175 -> 0
... G999: =IFERROR(VLOOKUP(F999,'Plano de Atividades CI'!$C$19:$D$22,2,0),0) -> 0 | H999: =E999-D999 -> 0

Sheet Proc. de Controle
C1: Anexo I
B3: Procedimentos de Controle adotados no Cisnordeste/SC
B4: Periodicidade | C4: Descrição
B5: Quando houver | C5: Controle de Credenciamento clínicas
B6: Mensal | C6: Controller das atas de Registro de Preço de Pregão Eletrônico
B7: Mensal | C7: Controle da Folha Ponto
B8: Mensal | C8: Controle de Estoque Materiais
B9: Mensal | C9: Controle de ativos do Consórcio
B10: Mensal | C10: Controle de Saldo Financeiro X Contábil
B11: Mensal | C11: Controle de contas a receber Financeiro X Contábil
B12: Bimestral | C12: Controle do que cada município gastou por bimestre
B13: Mensal | C13: Controle de Férias
B14: Mensal | C14: Controle de Banco de Horas
B15: Mensal | C15: Controle de Diárias
... B28: Quando houver | C28: Controle do material de expediente solicitado X entregue
